BEGIN:VCALENDAR
VERSION:2.0
PRODID:-// - ECPv6.15.12.2//NONSGML v1.0//EN
CALSCALE:GREGORIAN
METHOD:PUBLISH
X-ORIGINAL-URL:https://fredrikmalmberg.se
X-WR-CALDESC:Events for 
REFRESH-INTERVAL;VALUE=DURATION:PT1H
X-Robots-Tag:noindex
X-PUBLISHED-TTL:PT1H
BEGIN:VTIMEZONE
TZID:Europe/Stockholm
BEGIN:DAYLIGHT
TZOFFSETFROM:+0100
TZOFFSETTO:+0200
TZNAME:CEST
DTSTART:20230326T010000
END:DAYLIGHT
BEGIN:STANDARD
TZOFFSETFROM:+0200
TZOFFSETTO:+0100
TZNAME:CET
DTSTART:20231029T010000
END:STANDARD
BEGIN:DAYLIGHT
TZOFFSETFROM:+0100
TZOFFSETTO:+0200
TZNAME:CEST
DTSTART:20240331T010000
END:DAYLIGHT
BEGIN:STANDARD
TZOFFSETFROM:+0200
TZOFFSETTO:+0100
TZNAME:CET
DTSTART:20241027T010000
END:STANDARD
BEGIN:DAYLIGHT
TZOFFSETFROM:+0100
TZOFFSETTO:+0200
TZNAME:CEST
DTSTART:20250330T010000
END:DAYLIGHT
BEGIN:STANDARD
TZOFFSETFROM:+0200
TZOFFSETTO:+0100
TZNAME:CET
DTSTART:20251026T010000
END:STANDARD
END:VTIMEZONE
BEGIN:VEVENT
DTSTART;TZID=Europe/Stockholm:20241102T170000
DTEND;TZID=Europe/Stockholm:20241102T170000
DTSTAMP:20260419T185933
CREATED:20240614T150344Z
LAST-MODIFIED:20240614T150352Z
UID:1203-1730566800-1730566800@fredrikmalmberg.se
SUMMARY:HSO – Mozarts C-moll Mässa – Allhelgona i Konserthuset
DESCRIPTION:Under Allhelgonahelgen\, då vi tar oss tid att minnas nära och kära som inte längre finns bland oss\, bjuder vi in till en stämningsfull konsert med Mozarts mässa i c-moll.\n\n\nWolfgang Amadeus Mozart komponerade sin mässa i c-moll i början av 1780-talet – han var ung\, energisk och hade nyligen flyttat sina bopålar till Wien. I Mozarts musik från den här tiden finns tydliga influenser från både Bach och Händel\, inte minst i C-mollmässan kan man ana Bachs närvaro. Den är storslagen och pampig\, med dramatiska körsatser och gudomligt vackra solopartier. Mässan\, som blev ett slags bröllopsgåva till hustrun Constanze\, framfördes 1783 i Peterskyrkan med Constanze som sopransolist och Mozart som dirigent. \nTill denna Allhelgonakonsert gläder vi oss åt att åter få välkomna en av vårt lands absolut främsta kördirigenter\, Fredrik Malmberg\, och en härlig solistkvartett. \nProgram\nW.A. MOZART Mässa i c-moll \nMedverkande\nHelsingborgs Symfoniorkester\nHelsingborgs Konserthuskör\nSolister:\nSofie Asplund\, sopran\nSidsel Eriksen\, mezzosopran\nMartin Vanberg\, tenor\nAndreas Landin\, bas\nDirigent Fredrik Malmberg \nÖvrig information\nRullstolsplats bokas på telefonnummer 042-10 42 80.
URL:https://fredrikmalmberg.se/event/hso-mozarts-c-moll-massa-allhelgona-i-konserthuset/
LOCATION:Helsingborgs konserthus\, Drottninggatan 19\, Helsingborg\, Sweden
END:VEVENT
END:VCALENDAR