BEGIN:VCALENDAR
VERSION:2.0
PRODID:-// - ECPv6.15.12.2//NONSGML v1.0//EN
CALSCALE:GREGORIAN
METHOD:PUBLISH
X-ORIGINAL-URL:https://fredrikmalmberg.se
X-WR-CALDESC:Events for 
REFRESH-INTERVAL;VALUE=DURATION:PT1H
X-Robots-Tag:noindex
X-PUBLISHED-TTL:PT1H
BEGIN:VTIMEZONE
TZID:Europe/Stockholm
BEGIN:DAYLIGHT
TZOFFSETFROM:+0100
TZOFFSETTO:+0200
TZNAME:CEST
DTSTART:20230326T010000
END:DAYLIGHT
BEGIN:STANDARD
TZOFFSETFROM:+0200
TZOFFSETTO:+0100
TZNAME:CET
DTSTART:20231029T010000
END:STANDARD
BEGIN:DAYLIGHT
TZOFFSETFROM:+0100
TZOFFSETTO:+0200
TZNAME:CEST
DTSTART:20240331T010000
END:DAYLIGHT
BEGIN:STANDARD
TZOFFSETFROM:+0200
TZOFFSETTO:+0100
TZNAME:CET
DTSTART:20241027T010000
END:STANDARD
BEGIN:DAYLIGHT
TZOFFSETFROM:+0100
TZOFFSETTO:+0200
TZNAME:CEST
DTSTART:20250330T010000
END:DAYLIGHT
BEGIN:STANDARD
TZOFFSETFROM:+0200
TZOFFSETTO:+0100
TZNAME:CET
DTSTART:20251026T010000
END:STANDARD
END:VTIMEZONE
BEGIN:VEVENT
DTSTART;TZID=Europe/Stockholm:20240901T160000
DTEND;TZID=Europe/Stockholm:20240901T160000
DTSTAMP:20260419T155759
CREATED:20240614T130007Z
LAST-MODIFIED:20240614T131309Z
UID:1084-1725206400-1725206400@fredrikmalmberg.se
SUMMARY:Peter. Tid
DESCRIPTION:Vokalharmonin under konstnärlig ledning av Fredrik Malmberg \nJacob Hirdwall dramatiserar Dmitri Plax bok “Peter”\, som skildrar tiden efter att hans 16-årige son mördats av en jämnårig kamrat. En pjäs om stor saknad\, värme och ljus.
URL:https://fredrikmalmberg.se/event/peter-tid/
LOCATION:Orionteatern\, Katarina Bangata 77\, Stockholm\, Sweden
END:VEVENT
BEGIN:VEVENT
DTSTART;TZID=Europe/Stockholm:20240903T190000
DTEND;TZID=Europe/Stockholm:20240903T200000
DTSTAMP:20260419T155759
CREATED:20240614T134205Z
LAST-MODIFIED:20240614T134235Z
UID:1118-1725390000-1725393600@fredrikmalmberg.se
SUMMARY:Peter. Tid
DESCRIPTION:Vokalharmonin under konstnärlig ledning av Fredrik Malmberg \nJacob Hirdwall dramatiserar Dmitri Plax bok “Peter”\, som skildrar tiden efter att hans 16-årige son mördats av en jämnårig kamrat. En pjäs om stor saknad\, värme och ljus.
URL:https://fredrikmalmberg.se/event/peter-tid-3/
LOCATION:Orionteatern\, Katarina Bangata 77\, Stockholm\, Sweden
END:VEVENT
BEGIN:VEVENT
DTSTART;TZID=Europe/Stockholm:20240904T190000
DTEND;TZID=Europe/Stockholm:20240904T190000
DTSTAMP:20260419T155759
CREATED:20240614T135346Z
LAST-MODIFIED:20240614T142607Z
UID:1125-1725476400-1725476400@fredrikmalmberg.se
SUMMARY:Peter. Tid
DESCRIPTION:Vokalharmonin under konstnärlig ledning av Fredrik Malmberg \nJacob Hirdwall dramatiserar Dmitri Plax bok “Peter”\, som skildrar tiden efter att hans 16-årige son mördats av en jämnårig kamrat. En pjäs om stor saknad\, värme och ljus.
URL:https://fredrikmalmberg.se/event/peter-tid-5/
LOCATION:Orionteatern\, Katarina Bangata 77\, Stockholm\, Sweden
END:VEVENT
BEGIN:VEVENT
DTSTART;TZID=Europe/Stockholm:20240905T190000
DTEND;TZID=Europe/Stockholm:20240905T190000
DTSTAMP:20260419T155759
CREATED:20240614T140718Z
LAST-MODIFIED:20240614T141131Z
UID:1135-1725562800-1725562800@fredrikmalmberg.se
SUMMARY:Peter. Tid
DESCRIPTION:Vokalharmonin under konstnärlig ledning av Fredrik Malmberg \nJacob Hirdwall dramatiserar Dmitri Plax bok “Peter”\, som skildrar tiden efter att hans 16-årige son mördats av en jämnårig kamrat. En pjäs om stor saknad\, värme och ljus.
URL:https://fredrikmalmberg.se/event/peter-tid-8/
LOCATION:Orionteatern\, Katarina Bangata 77\, Stockholm\, Sweden
END:VEVENT
BEGIN:VEVENT
DTSTART;TZID=Europe/Stockholm:20240906T190000
DTEND;TZID=Europe/Stockholm:20240906T190000
DTSTAMP:20260419T155759
CREATED:20240614T141301Z
LAST-MODIFIED:20240614T144053Z
UID:1149-1725649200-1725649200@fredrikmalmberg.se
SUMMARY:Peter. Tid
DESCRIPTION:Vokalharmonin under konstnärlig ledning av Fredrik Malmberg \nJacob Hirdwall dramatiserar Dmitri Plax bok “Peter”\, som skildrar tiden efter att hans 16-årige son mördats av en jämnårig kamrat. En pjäs om stor saknad\, värme och ljus.
URL:https://fredrikmalmberg.se/event/peter-tid-9/
LOCATION:Orionteatern\, Katarina Bangata 77\, Stockholm\, Sweden
END:VEVENT
BEGIN:VEVENT
DTSTART;TZID=Europe/Stockholm:20240907T190000
DTEND;TZID=Europe/Stockholm:20240907T190000
DTSTAMP:20260419T155759
CREATED:20240614T141352Z
LAST-MODIFIED:20240614T144029Z
UID:1151-1725735600-1725735600@fredrikmalmberg.se
SUMMARY:Peter. Tid
DESCRIPTION:Vokalharmonin under konstnärlig ledning av Fredrik Malmberg \nJacob Hirdwall dramatiserar Dmitri Plax bok “Peter”\, som skildrar tiden efter att hans 16-årige son mördats av en jämnårig kamrat. En pjäs om stor saknad\, värme och ljus.
URL:https://fredrikmalmberg.se/event/peter-tid-10/
LOCATION:Orionteatern\, Katarina Bangata 77\, Stockholm\, Sweden
END:VEVENT
BEGIN:VEVENT
DTSTART;TZID=Europe/Stockholm:20240908T160000
DTEND;TZID=Europe/Stockholm:20240908T160000
DTSTAMP:20260419T155759
CREATED:20240614T141442Z
LAST-MODIFIED:20240614T144002Z
UID:1153-1725811200-1725811200@fredrikmalmberg.se
SUMMARY:Peter. Tid
DESCRIPTION:Vokalharmonin under konstnärlig ledning av Fredrik Malmberg \nJacob Hirdwall dramatiserar Dmitri Plax bok “Peter”\, som skildrar tiden efter att hans 16-årige son mördats av en jämnårig kamrat. En pjäs om stor saknad\, värme och ljus.
URL:https://fredrikmalmberg.se/event/peter-tid-11/
LOCATION:Orionteatern\, Katarina Bangata 77\, Stockholm\, Sweden
END:VEVENT
BEGIN:VEVENT
DTSTART;TZID=Europe/Stockholm:20240911T190000
DTEND;TZID=Europe/Stockholm:20240911T190000
DTSTAMP:20260419T155759
CREATED:20240614T144208Z
LAST-MODIFIED:20240614T144420Z
UID:1188-1726081200-1726081200@fredrikmalmberg.se
SUMMARY:Peter. Tid
DESCRIPTION:Vokalharmonin under konstnärlig ledning av Fredrik Malmberg \nJacob Hirdwall dramatiserar Dmitri Plax bok “Peter”\, som skildrar tiden efter att hans 16-årige son mördats av en jämnårig kamrat. En pjäs om stor saknad\, värme och ljus.
URL:https://fredrikmalmberg.se/event/peter-tid-12/
LOCATION:Orionteatern\, Katarina Bangata 77\, Stockholm\, Sweden
END:VEVENT
BEGIN:VEVENT
DTSTART;TZID=Europe/Stockholm:20240912T190000
DTEND;TZID=Europe/Stockholm:20240912T190000
DTSTAMP:20260419T155759
CREATED:20240614T144242Z
LAST-MODIFIED:20240614T144358Z
UID:1190-1726167600-1726167600@fredrikmalmberg.se
SUMMARY:Peter. Tid
DESCRIPTION:Vokalharmonin under konstnärlig ledning av Fredrik Malmberg \nJacob Hirdwall dramatiserar Dmitri Plax bok “Peter”\, som skildrar tiden efter att hans 16-årige son mördats av en jämnårig kamrat. En pjäs om stor saknad\, värme och ljus.
URL:https://fredrikmalmberg.se/event/peter-tid-13/
LOCATION:Orionteatern\, Katarina Bangata 77\, Stockholm\, Sweden
END:VEVENT
BEGIN:VEVENT
DTSTART;TZID=Europe/Stockholm:20240913T190000
DTEND;TZID=Europe/Stockholm:20240913T190000
DTSTAMP:20260419T155759
CREATED:20240614T144327Z
LAST-MODIFIED:20240614T144334Z
UID:1192-1726254000-1726254000@fredrikmalmberg.se
SUMMARY:Peter. Tid
DESCRIPTION:Vokalharmonin under konstnärlig ledning av Fredrik Malmberg \nJacob Hirdwall dramatiserar Dmitri Plax bok “Peter”\, som skildrar tiden efter att hans 16-årige son mördats av en jämnårig kamrat. En pjäs om stor saknad\, värme och ljus.
URL:https://fredrikmalmberg.se/event/peter-tid-14/
LOCATION:Orionteatern\, Katarina Bangata 77\, Stockholm\, Sweden
END:VEVENT
BEGIN:VEVENT
DTSTART;TZID=Europe/Stockholm:20240914T150000
DTEND;TZID=Europe/Stockholm:20240914T160000
DTSTAMP:20260419T155759
CREATED:20240812T160228Z
LAST-MODIFIED:20240812T160241Z
UID:1339-1726326000-1726329600@fredrikmalmberg.se
SUMMARY:Radiokören: Another Part of the Wood
DESCRIPTION:Mors Saülis et Jonathæ är Marc-Antoine Charpentiers oratorium om den bibliska striden mellan israeliterna och filistéerna\, om faderskärlek och död. Under ledning av Fredrik Malmberg framför Radiokören tillsammans med musiker ur Sveriges Radios Symfoniorkester och årets ”Klassiska artisten i P2” barytonen David Risberg detta mästerverk från barocken. Dessutom musik av Britta Byström\, Judith Bingham\, Karin Rehnqvist\, Jaakko Mäntyjärvi och Matthew Locke baserad på några av William Shakespeares mest älskade verk.
URL:https://fredrikmalmberg.se/event/radiokoren-another-part-of-the-wood/
LOCATION:Historiska Museet\, Stockholm\, Sweden
END:VEVENT
BEGIN:VEVENT
DTSTART;TZID=Europe/Stockholm:20240914T190000
DTEND;TZID=Europe/Stockholm:20240914T190000
DTSTAMP:20260419T155759
CREATED:20240614T144537Z
LAST-MODIFIED:20240614T144554Z
UID:1194-1726340400-1726340400@fredrikmalmberg.se
SUMMARY:Peter. Tid
DESCRIPTION:Vokalharmonin under konstnärlig ledning av Fredrik Malmberg \nJacob Hirdwall dramatiserar Dmitri Plax bok “Peter”\, som skildrar tiden efter att hans 16-årige son mördats av en jämnårig kamrat. En pjäs om stor saknad\, värme och ljus.
URL:https://fredrikmalmberg.se/event/peter-tid-15/
LOCATION:Orionteatern\, Katarina Bangata 77\, Stockholm\, Sweden
END:VEVENT
BEGIN:VEVENT
DTSTART;TZID=Europe/Stockholm:20240915T160000
DTEND;TZID=Europe/Stockholm:20240915T160000
DTSTAMP:20260419T155759
CREATED:20240614T144639Z
LAST-MODIFIED:20240614T144642Z
UID:1196-1726416000-1726416000@fredrikmalmberg.se
SUMMARY:Peter. Tid
DESCRIPTION:Vokalharmonin under konstnärlig ledning av Fredrik Malmberg \nJacob Hirdwall dramatiserar Dmitri Plax bok “Peter”\, som skildrar tiden efter att hans 16-årige son mördats av en jämnårig kamrat. En pjäs om stor saknad\, värme och ljus.
URL:https://fredrikmalmberg.se/event/peter-tid-16/
LOCATION:Orionteatern\, Katarina Bangata 77\, Stockholm\, Sweden
END:VEVENT
END:VCALENDAR