BEGIN:VCALENDAR
VERSION:2.0
PRODID:-// - ECPv6.15.12.2//NONSGML v1.0//EN
CALSCALE:GREGORIAN
METHOD:PUBLISH
X-ORIGINAL-URL:https://fredrikmalmberg.se
X-WR-CALDESC:Events for 
REFRESH-INTERVAL;VALUE=DURATION:PT1H
X-Robots-Tag:noindex
X-PUBLISHED-TTL:PT1H
BEGIN:VTIMEZONE
TZID:Europe/Stockholm
BEGIN:DAYLIGHT
TZOFFSETFROM:+0100
TZOFFSETTO:+0200
TZNAME:CEST
DTSTART:20220327T010000
END:DAYLIGHT
BEGIN:STANDARD
TZOFFSETFROM:+0200
TZOFFSETTO:+0100
TZNAME:CET
DTSTART:20221030T010000
END:STANDARD
BEGIN:DAYLIGHT
TZOFFSETFROM:+0100
TZOFFSETTO:+0200
TZNAME:CEST
DTSTART:20230326T010000
END:DAYLIGHT
BEGIN:STANDARD
TZOFFSETFROM:+0200
TZOFFSETTO:+0100
TZNAME:CET
DTSTART:20231029T010000
END:STANDARD
BEGIN:DAYLIGHT
TZOFFSETFROM:+0100
TZOFFSETTO:+0200
TZNAME:CEST
DTSTART:20240331T010000
END:DAYLIGHT
BEGIN:STANDARD
TZOFFSETFROM:+0200
TZOFFSETTO:+0100
TZNAME:CET
DTSTART:20241027T010000
END:STANDARD
END:VTIMEZONE
BEGIN:VEVENT
DTSTART;TZID=Europe/Stockholm:20230627T183000
DTEND;TZID=Europe/Stockholm:20230710T190000
DTSTAMP:20260420T023914
CREATED:20230317T210101Z
LAST-MODIFIED:20230317T210101Z
UID:806-1687890600-1689015600@fredrikmalmberg.se
SUMMARY:27 juni – 10 juli Japanturné
DESCRIPTION:Vokalharmonin\, Uppsala kammarsolister\nDirigent: Fredrik Malmberg \n\n27 juni Konsert kl. 18.30\, Awagain hall\, Tokushima\n29 juni Konsert kl.18.30\, Chigasaki civic hall\n1 juli Konsert 14.00\, Yokosuka Arts Theatre\n2 juli Konsert 14.00\, Aichi Prefectural art theatre\n3 juli Konsert 18.30\, Act city hamamatsu\n6 juli Konsert 18.30\, Yamagata Teresa\n9 juli Konsert 14.00\, Kashiwazaki City Perfroming Art Center\n10 juli Konsert 19.00\, Shibata Cultural Center
URL:https://fredrikmalmberg.se/event/27-juni-10-juli-japanturne/
END:VEVENT
BEGIN:VEVENT
DTSTART;TZID=Europe/Stockholm:20230610T000000
DTEND;TZID=Europe/Stockholm:20230610T000100
DTSTAMP:20260420T023914
CREATED:20230317T220823Z
LAST-MODIFIED:20230317T220823Z
UID:826-1686355200-1686355260@fredrikmalmberg.se
SUMMARY:Konsert
DESCRIPTION:Eric Ericsons Kammarkör \nDirigent: Fredrik Malmberg
URL:https://fredrikmalmberg.se/event/konsert-2/
LOCATION:Garnissonskirke\, Copenhagen
END:VEVENT
BEGIN:VEVENT
DTSTART;TZID=Europe/Stockholm:20230609T000000
DTEND;TZID=Europe/Stockholm:20230609T000100
DTSTAMP:20260420T023914
CREATED:20230317T220628Z
LAST-MODIFIED:20230317T220634Z
UID:824-1686268800-1686268860@fredrikmalmberg.se
SUMMARY:Nordic Choir expedition
DESCRIPTION:Eric Ericsons Kammarkör\, Helsingfors Kammarkör\, Ars Nova Copenhagen\, Det Norske Solistkor \nDirigenter: Fredrik Malmberg\, Grete Pedersen\, Nils Schweckendiek\, Graham Ross
URL:https://fredrikmalmberg.se/event/nordic-choir-expedition-5/
LOCATION:Universitetsaulan\, Copenhagen
END:VEVENT
BEGIN:VEVENT
DTSTART;TZID=Europe/Stockholm:20230608T000000
DTEND;TZID=Europe/Stockholm:20230608T000100
DTSTAMP:20260420T023914
CREATED:20230317T220354Z
LAST-MODIFIED:20230317T220354Z
UID:821-1686182400-1686182460@fredrikmalmberg.se
SUMMARY:Nordic Choir expedition
DESCRIPTION:Eric Ericsons Kammarkör \nDirigent: Fredrik Malmberg \n 
URL:https://fredrikmalmberg.se/event/nordic-choir-expedition-4/
LOCATION:Maria Magdalena kyrka\, Stockholm
END:VEVENT
BEGIN:VEVENT
DTSTART;TZID=Europe/Stockholm:20230607T000000
DTEND;TZID=Europe/Stockholm:20230607T000100
DTSTAMP:20260420T023914
CREATED:20230317T220157Z
LAST-MODIFIED:20230317T220157Z
UID:818-1686096000-1686096060@fredrikmalmberg.se
SUMMARY:Nordic Choir expedition
DESCRIPTION:Eric Ericsons Kammarkör\, Helsingfors Kammarkör\, Ars Nova Copenhagen\, Det Norske Solistkor \nDirigenter: Fredrik Malmberg\, Grete Pedersen\, Nils Schweckendiek\, Graham Ross
URL:https://fredrikmalmberg.se/event/nordic-choir-expedition-3/
LOCATION:Kungliga Musikhögskolan\, Stockholm
END:VEVENT
BEGIN:VEVENT
DTSTART;TZID=Europe/Stockholm:20230604T000000
DTEND;TZID=Europe/Stockholm:20230604T000100
DTSTAMP:20260420T023914
CREATED:20230317T215910Z
LAST-MODIFIED:20230317T215921Z
UID:814-1685836800-1685836860@fredrikmalmberg.se
SUMMARY:Konsert
DESCRIPTION:Eric Ericsons Kammarkör\, Helsingfors Kammarkör\, Ars Nova Copenhagen\, Det Norske Solistkor \nDirigenter: Fredrik Malmberg\, Grete Pedersen\, Nils Schweckendiek\, Graham Ross
URL:https://fredrikmalmberg.se/event/konsert/
LOCATION:Universitetsaulan\, Copenhagen
END:VEVENT
BEGIN:VEVENT
DTSTART;TZID=Europe/Stockholm:20230603T000000
DTEND;TZID=Europe/Stockholm:20230603T000100
DTSTAMP:20260420T023914
CREATED:20230317T215526Z
LAST-MODIFIED:20230317T215526Z
UID:811-1685750400-1685750460@fredrikmalmberg.se
SUMMARY:Nordic Choir expedition
DESCRIPTION:Eric Ericsons Kammarkör \nDirigent: Fredrik Malmberg
URL:https://fredrikmalmberg.se/event/nordic-choir-expedition-2/
LOCATION:Domkyrkan\, Oslo\, Norway
END:VEVENT
END:VCALENDAR