BEGIN:VCALENDAR
VERSION:2.0
PRODID:-// - ECPv6.15.12.2//NONSGML v1.0//EN
CALSCALE:GREGORIAN
METHOD:PUBLISH
X-ORIGINAL-URL:https://fredrikmalmberg.se
X-WR-CALDESC:Events for 
REFRESH-INTERVAL;VALUE=DURATION:PT1H
X-Robots-Tag:noindex
X-PUBLISHED-TTL:PT1H
BEGIN:VTIMEZONE
TZID:Europe/Stockholm
BEGIN:DAYLIGHT
TZOFFSETFROM:+0100
TZOFFSETTO:+0200
TZNAME:CEST
DTSTART:20230326T010000
END:DAYLIGHT
BEGIN:STANDARD
TZOFFSETFROM:+0200
TZOFFSETTO:+0100
TZNAME:CET
DTSTART:20231029T010000
END:STANDARD
BEGIN:DAYLIGHT
TZOFFSETFROM:+0100
TZOFFSETTO:+0200
TZNAME:CEST
DTSTART:20240331T010000
END:DAYLIGHT
BEGIN:STANDARD
TZOFFSETFROM:+0200
TZOFFSETTO:+0100
TZNAME:CET
DTSTART:20241027T010000
END:STANDARD
BEGIN:DAYLIGHT
TZOFFSETFROM:+0100
TZOFFSETTO:+0200
TZNAME:CEST
DTSTART:20250330T010000
END:DAYLIGHT
BEGIN:STANDARD
TZOFFSETFROM:+0200
TZOFFSETTO:+0100
TZNAME:CET
DTSTART:20251026T010000
END:STANDARD
END:VTIMEZONE
BEGIN:VEVENT
DTSTART;TZID=Europe/Stockholm:20241009T180000
DTEND;TZID=Europe/Stockholm:20241009T180000
DTSTAMP:20260419T185954
CREATED:20240614T145306Z
LAST-MODIFIED:20240614T145310Z
UID:1198-1728496800-1728496800@fredrikmalmberg.se
SUMMARY:SON - Bachs h-mollmässa
DESCRIPTION:Ett av musikhistoriens mäktigaste körverk \nDen magnifika h-mollmässan är en syntes av alla stilmässiga och kompositionstekniska innovationer Johann Sebastian Bach utvecklade till perfektion under sitt liv. \nDen uttrycksfulla textbehandlingen\, den mästerliga instrumentationen och intresset för proportioner och sinnrika konstruktioner\, och inte minst tonsättarens kristna tro och människokännedom\, kommer här till uttryck på ett universellt sätt. Det kan jämföras med Dante Alighieris litterära prestation i Den gudomliga komedin eller Michelangelos takmålningar i Sixtinska kapellet. \nTillsammans med Eric Ericsons Kammarkör\, denna gång under ledning av körens chefdirigent Fredrik Malmberg och med en grupp handplockade sångsolister\, är det bäddat för en stor upplevelse! \nPROGRAM\nJ S Bach Mässa h-moll \nDirigent\nFredrik Malmberg \nSolister\nKathrin Lorenzen\, sopran\nAnna Zander\, mezzosopran\nMorten Grove Frandsen\, alt\nThomas Volle\, tenor\nKarl Peter Eriksson Lindblad\, bas \nKör\nEric Ericsons Kammarkör
URL:https://fredrikmalmberg.se/event/son-bachs-h-mollmassa/
LOCATION:De Geerhallen\, Dalsgatan 15\, Norrköping\, Sweden
END:VEVENT
END:VCALENDAR